Workbook

Sheet How to use
B1: How to use the Assessment workbook
B3: 1. If applicable, fill out the Existing E8 Controls sheet, to see where existing evidence could be leveraged for assessment against the Essentials for Enterprise IT.
C5: Worksheet | D5: Description
C6: Existing E8 Controls | D6: This sheet allows you to specify your currently implemented Essential Eight controls. These controls will appear under the Relevant E8 Controls section under each of the Actions in the Domain worksheets.
B9: 2. Determine which Domains will be assessed. Work through each of the worksheets for these Domains
C11: Capability Domains
C13: Worksheet | D13: Priority Phase | E13: Domain Description
C14: Governance and culture | D14: All | E14: Policies, risk management processes, roles and security culture that underpin cyber security program.
C15: Visibility and response | D15: All | E15: Procedures and capabilities for detecting, analysing and responding to cyber security events and incidents.
C17: Technical domains
C19: Worksheet | D19: Priority Phase | E19: Domain Description
C20: Boundary services | D20: 1 | E20: Assets at network boundaries that broker connectivity between environments of different trust levels, including internet-facing services and edge devices.
C21: Identity services | D21: 1 | E21: Identity, credential and access management services such as directories, authentication and authorisation services or credential stores.
C22: Privileged environments | D22: 2 | E22: Systems and services that support privileged activities, management services and high-impact administrative functions.
C23: Critical processes and services | D23: 2 | E23: Core processes and services that are critical to delivering primary organisational outcomes.
C24: Business systems | D24: 3 | E24: Supporting enterprise functions that collectively enable organisational operations.
C25: User devices | D25: 3 | E25: Endpoints issued to the workforce, including desktops and laptops.
B28: 3. Review Assessment summary and results
C30: Worksheet | D30: Description
C31: Domain Summary | D31: Domain level summary of progress against the Essentials for Enterprise IT
C32: Principle Summary | D32: Heatmap of the Principle ratings across each of the Domains

Sheet Domain Summary
A1: Essentials Assessment Domain Summary
D23: Principle ratings
A24: Domain | B24: Priority phase | C24: % effective | D24: Not assessed | E24: Not effective | F24: Partially effective | G24: Fully effective
A25: Governance and culture | B25: All | C25: =VLOOKUP(A25,Domains[[Domain]:[Score]],7,FALSE) -> 0 | D25: =VLOOKUP(A25,Domains[[Domain]:[Score]],2,FALSE) -> 7 | E25: =VLOOKUP(A25,Domains[[Domain]:[Score]],3,FALSE) -> 0 | F25: =VLOOKUP(A25,Domains[[Domain]:[Score]],4,FALSE) -> 0 | G25: =VLOOKUP(A25,Domains[[Domain]:[Score]],5,FALSE) -> 0
A26: Visibility and response | B26: All | C26: =VLOOKUP(A26,Domains[[Domain]:[Score]],7,FALSE) -> 0 | D26: =VLOOKUP(A26,Domains[[Domain]:[Score]],2,FALSE) -> 10 | E26: =VLOOKUP(A26,Domains[[Domain]:[Score]],3,FALSE) -> 0 | F26: =VLOOKUP(A26,Domains[[Domain]:[Score]],4,FALSE) -> 0 | G26: =VLOOKUP(A26,Domains[[Domain]:[Score]],5,FALSE) -> 0
A27: Boundary services | B27: 1 | C27: =VLOOKUP(A27,Domains[[Domain]:[Score]],7,FALSE) -> 0 | D27: =VLOOKUP(A27,Domains[[Domain]:[Score]],2,FALSE) -> 16 | E27: =VLOOKUP(A27,Domains[[Domain]:[Score]],3,FALSE) -> 0 | F27: =VLOOKUP(A27,Domains[[Domain]:[Score]],4,FALSE) -> 0 | G27: =VLOOKUP(A27,Domains[[Domain]:[Score]],5,FALSE) -> 0
A28: Identity services | B28: 1 | C28: =VLOOKUP(A28,Domains[[Domain]:[Score]],7,FALSE) -> 0 | D28: =VLOOKUP(A28,Domains[[Domain]:[Score]],2,FALSE) -> 16 | E28: =VLOOKUP(A28,Domains[[Domain]:[Score]],3,FALSE) -> 0 | F28: =VLOOKUP(A28,Domains[[Domain]:[Score]],4,FALSE) -> 0 | G28: =VLOOKUP(A28,Domains[[Domain]:[Score]],5,FALSE) -> 0
A29: Privileged environments | B29: 2 | C29: =VLOOKUP(A29,Domains[[Domain]:[Score]],7,FALSE) -> 0 | D29: =VLOOKUP(A29,Domains[[Domain]:[Score]],2,FALSE) -> 16 | E29: =VLOOKUP(A29,Domains[[Domain]:[Score]],3,FALSE) -> 0 | F29: =VLOOKUP(A29,Domains[[Domain]:[Score]],4,FALSE) -> 0 | G29: =VLOOKUP(A29,Domains[[Domain]:[Score]],5,FALSE) -> 0
A30: Critical processes and services | B30: 2 | C30: =VLOOKUP(A30,Domains[[Domain]:[Score]],7,FALSE) -> 0 | D30: =VLOOKUP(A30,Domains[[Domain]:[Score]],2,FALSE) -> 16 | E30: =VLOOKUP(A30,Domains[[Domain]:[Score]],3,FALSE) -> 0 | F30: =VLOOKUP(A30,Domains[[Domain]:[Score]],4,FALSE) -> 0 | G30: =VLOOKUP(A30,Domains[[Domain]:[Score]],5,FALSE) -> 0
A31: Business systems | B31: 3 | C31: =VLOOKUP(A31,Domains[[Domain]:[Score]],7,FALSE) -> 0 | D31: =VLOOKUP(A31,Domains[[Domain]:[Score]],2,FALSE) -> 13 | E31: =VLOOKUP(A31,Domains[[Domain]:[Score]],3,FALSE) -> 0 | F31: =VLOOKUP(A31,Domains[[Domain]:[Score]],4,FALSE) -> 0 | G31: =VLOOKUP(A31,Domains[[Domain]:[Score]],5,FALSE) -> 0
A32: User devices | B32: 3 | C32: =VLOOKUP(A32,Domains[[Domain]:[Score]],7,FALSE) -> 0 | D32: =VLOOKUP(A32,Domains[[Domain]:[Score]],2,FALSE) -> 10 | E32: =VLOOKUP(A32,Domains[[Domain]:[Score]],3,FALSE) -> 0 | F32: =VLOOKUP(A32,Domains[[Domain]:[Score]],4,FALSE) -> 0 | G32: =VLOOKUP(A32,Domains[[Domain]:[Score]],5,FALSE) -> 0

Sheet Principle Summary
B3: Capability Domains | F3: Technical Domains
G5: Phase 1 | I5: Phase 2 | K5: Phase 3
B6: Principle | C6: Governance and culture | F6: Principle | G6: Boundary services | H6: Identity services | I6: Privileged environments | J6: Critical processes and services | K6: Business systems | L6: User devices
A7: GOV-01 | B7: GOV-01 - Executive cyber security accountability | C7: {=IFERROR(INDEX(Principles[Rating],MATCH(1,(Principles[Domain]=$C$6)*(Principles[Principle]=A7),0)),"")} -> Not assessed | E7: IDE-01 | F7: IDE-01 - Asset identification | G7: {=IFERROR(INDEX(Principles[Rating],MATCH(1,(Principles[Domain]=$G$6)*(Principles[Principle]=E7),0)),"")} -> Not assessed | H7: {=IFERROR(INDEX(Principles[Rating],MATCH(1,(Principles[Domain]=$H$6)*(Principles[Principle]=E7),0)),"")} -> Not assessed | I7: {=IFERROR(INDEX(Principles[Rating],MATCH(1,(Principles[Domain]=$I$6)*(Principles[Principle]=E7),0)),"")} -> Not assessed | J7: {=IFERROR(INDEX(Principles[Rating],MATCH(1,(Principles[Domain]=$J$6)*(Principles[Principle]=E7),0)),"")} -> Not assessed | K7: {=IFERROR(INDEX(Principles[Rating],MATCH(1,(Principles[Domain]=$K$6)*(Principles[Principle]=E7),0)),"")} -> Not assessed | L7: {=IFERROR(INDEX(Principles[Rating],MATCH(1,(Principles[Domain]=$L$6)*(Principles[Principle]=E7),0)),"")} -> Not assessed
A8: GOV-08 | B8: GOV-08 - Executive artificial intelligence accountability | C8: {=IFERROR(INDEX(Principles[Rating],MATCH(1,(Principles[Domain]=$C$6)*(Principles[Principle]=A8),0)),"")} -> Not assessed | E8: PRO-01 | F8: PRO-01 - Secure system lifecycle | G8: {=IFERROR(INDEX(Principles[Rating],MATCH(1,(Principles[Domain]=$G$6)*(Principles[Principle]=E8),0)),"")} -> Not assessed | H8: {=IFERROR(INDEX(Principles[Rating],MATCH(1,(Principles[Domain]=$H$6)*(Principles[Principle]=E8),0)),"")} -> Not assessed | I8: {=IFERROR(INDEX(Principles[Rating],MATCH(1,(Principles[Domain]=$I$6)*(Principles[Principle]=E8),0)),"")} -> Not assessed | J8: {=IFERROR(INDEX(Principles[Rating],MATCH(1,(Principles[Domain]=$J$6)*(Principles[Principle]=E8),0)),"")} -> Not assessed | K8: {=IFERROR(INDEX(Principles[Rating],MATCH(1,(Principles[Domain]=$K$6)*(Principles[Principle]=E8),0)),"")} -> Not assessed | L8: {=IFERROR(INDEX(Principles[Rating],MATCH(1,(Principles[Domain]=$L$6)*(Principles[Principle]=E8),0)),"")} -> Not assessed
A9: GOV-04 | B9: GOV-04 - Cyber security resourcing | C9: {=IFERROR(INDEX(Principles[Rating],MATCH(1,(Principles[Domain]=$C$6)*(Principles[Principle]=A9),0)),"")} -> Not assessed | E9: PRO-16 | F9: PRO-16 - Cyber supply chain security | G9: {=IFERROR(INDEX(Principles[Rating],MATCH(1,(Principles[Domain]=$G$6)*(Principles[Principle]=E9),0)),"")} -> Not assessed | H9: {=IFERROR(INDEX(Principles[Rating],MATCH(1,(Principles[Domain]=$H$6)*(Principles[Principle]=E9),0)),"")} -> Not assessed | I9: {=IFERROR(INDEX(Principles[Rating],MATCH(1,(Principles[Domain]=$I$6)*(Principles[Principle]=E9),0)),"")} -> Not assessed | J9: {=IFERROR(INDEX(Principles[Rating],MATCH(1,(Principles[Domain]=$J$6)*(Principles[Principle]=E9),0)),"")} -> Not assessed | K9: {=IFERROR(INDEX(Principles[Rating],MATCH(1,(Principles[Domain]=$K$6)*(Principles[Principle]=E9),0)),"")} -> Not assessed | L9: {=IFERROR(INDEX(Principles[Rating],MATCH(1,(Principles[Domain]=$L$6)*(Principles[Principle]=E9),0)),"")} -> Not assessed
A10: GOV-03 | B10: GOV-03 - Security risk management assurance | C10: {=IFERROR(INDEX(Principles[Rating],MATCH(1,(Principles[Domain]=$C$6)*(Principles[Principle]=A10),0)),"")} -> Not assessed | E10: PRO-13 | F10: PRO-13 - Identity, credential and access management | G10: {=IFERROR(INDEX(Principles[Rating],MATCH(1,(Principles[Domain]=$G$6)*(Principles[Principle]=E10),0)),"")} -> Not assessed | H10: {=IFERROR(INDEX(Principles[Rating],MATCH(1,(Principles[Domain]=$H$6)*(Principles[Principle]=E10),0)),"")} -> Not assessed | I10: {=IFERROR(INDEX(Principles[Rating],MATCH(1,(Principles[Domain]=$I$6)*(Principles[Principle]=E10),0)),"")} -> Not assessed | J10: {=IFERROR(INDEX(Principles[Rating],MATCH(1,(Principles[Domain]=$J$6)*(Principles[Principle]=E10),0)),"")} -> Not assessed | K10: {=IFERROR(INDEX(Principles[Rating],MATCH(1,(Principles[Domain]=$K$6)*(Principles[Principle]=E10),0)),"")} -> Not assessed | L10: {=IFERROR(INDEX(Principles[Rating],MATCH(1,(Principles[Domain]=$L$6)*(Principles[Principle]=E10),0)),"")} -> Not assessed
A11: GOV-11 | B11: GOV-11 - Supplier cyber security assurance | C11: {=IFERROR(INDEX(Principles[Rating],MATCH(1,(Principles[Domain]=$C$6)*(Principles[Principle]=A11),0)),"")} -> Not assessed | E11: PRO-12 | F11: PRO-12 - Least privilege access | G11: {=IFERROR(INDEX(Principles[Rating],MATCH(1,(Principles[Domain]=$G$6)*(Principles[Principle]=E11),0)),"")} -> Not assessed | H11: {=IFERROR(INDEX(Principles[Rating],MATCH(1,(Principles[Domain]=$H$6)*(Principles[Principle]=E11),0)),"")} -> Not assessed | I11: {=IFERROR(INDEX(Principles[Rating],MATCH(1,(Principles[Domain]=$I$6)*(Principles[Principle]=E11),0)),"")} -> Not assessed | J11: {=IFERROR(INDEX(Principles[Rating],MATCH(1,(Principles[Domain]=$J$6)*(Principles[Principle]=E11),0)),"")} -> Not assessed | K11: {=IFERROR(INDEX(Principles[Rating],MATCH(1,(Principles[Domain]=$K$6)*(Principles[Principle]=E11),0)),"")} -> Not assessed | L11: {=IFERROR(INDEX(Principles[Rating],MATCH(1,(Principles[Domain]=$L$6)*(Principles[Principle]=E11),0)),"")} -> Not assessed
A12: GOV-14 | B12: GOV-14 - Legacy system management | C12: {=IFERROR(INDEX(Principles[Rating],MATCH(1,(Principles[Domain]=$C$6)*(Principles[Principle]=A12),0)),"")} -> Not assessed | E12: PRO-05 | F12: PRO-05 - Secure administration | G12: {=IFERROR(INDEX(Principles[Rating],MATCH(1,(Principles[Domain]=$G$6)*(Principles[Principle]=E12),0)),"")} -> Not assessed | H12: {=IFERROR(INDEX(Principles[Rating],MATCH(1,(Principles[Domain]=$H$6)*(Principles[Principle]=E12),0)),"")} -> Not assessed | I12: {=IFERROR(INDEX(Principles[Rating],MATCH(1,(Principles[Domain]=$I$6)*(Principles[Principle]=E12),0)),"")} -> Not assessed | J12: {=IFERROR(INDEX(Principles[Rating],MATCH(1,(Principles[Domain]=$J$6)*(Principles[Principle]=E12),0)),"")} -> Not assessed
A13: PRO-14 | B13: PRO-14 - Cyber security awareness training | C13: {=IFERROR(INDEX(Principles[Rating],MATCH(1,(Principles[Domain]=$C$6)*(Principles[Principle]=A13),0)),"")} -> Not assessed | E13: PRO-04 | F13: PRO-04 - Secure configuration management | G13: {=IFERROR(INDEX(Principles[Rating],MATCH(1,(Principles[Domain]=$G$6)*(Principles[Principle]=E13),0)),"")} -> Not assessed | H13: {=IFERROR(INDEX(Principles[Rating],MATCH(1,(Principles[Domain]=$H$6)*(Principles[Principle]=E13),0)),"")} -> Not assessed | I13: {=IFERROR(INDEX(Principles[Rating],MATCH(1,(Principles[Domain]=$I$6)*(Principles[Principle]=E13),0)),"")} -> Not assessed | J13: {=IFERROR(INDEX(Principles[Rating],MATCH(1,(Principles[Domain]=$J$6)*(Principles[Principle]=E13),0)),"")} -> Not assessed | K13: {=IFERROR(INDEX(Principles[Rating],MATCH(1,(Principles[Domain]=$K$6)*(Principles[Principle]=E13),0)),"")} -> Not assessed | L13: {=IFERROR(INDEX(Principles[Rating],MATCH(1,(Principles[Domain]=$L$6)*(Principles[Principle]=E13),0)),"")} -> Not assessed
E14: PRO-06 | F14: PRO-06 - Vulnerability management | G14: {=IFERROR(INDEX(Principles[Rating],MATCH(1,(Principles[Domain]=$G$6)*(Principles[Principle]=E14),0)),"")} -> Not assessed | H14: {=IFERROR(INDEX(Principles[Rating],MATCH(1,(Principles[Domain]=$H$6)*(Principles[Principle]=E14),0)),"")} -> Not assessed | I14: {=IFERROR(INDEX(Principles[Rating],MATCH(1,(Principles[Domain]=$I$6)*(Principles[Principle]=E14),0)),"")} -> Not assessed | J14: {=IFERROR(INDEX(Principles[Rating],MATCH(1,(Principles[Domain]=$J$6)*(Principles[Principle]=E14),0)),"")} -> Not assessed | K14: {=IFERROR(INDEX(Principles[Rating],MATCH(1,(Principles[Domain]=$K$6)*(Principles[Principle]=E14),0)),"")} -> Not assessed | L14: {=IFERROR(INDEX(Principles[Rating],MATCH(1,(Principles[Domain]=$L$6)*(Principles[Principle]=E14),0)),"")} -> Not assessed
B15: Principle | C15: Visibility and response | E15: PRO-07 | F15: PRO-07 - Trustworthy software | G15: {=IFERROR(INDEX(Principles[Rating],MATCH(1,(Principles[Domain]=$G$6)*(Principles[Principle]=E15),0)),"")} -> Not assessed | H15: {=IFERROR(INDEX(Principles[Rating],MATCH(1,(Principles[Domain]=$H$6)*(Principles[Principle]=E15),0)),"")} -> Not assessed | I15: {=IFERROR(INDEX(Principles[Rating],MATCH(1,(Principles[Domain]=$I$6)*(Principles[Principle]=E15),0)),"")} -> Not assessed | J15: {=IFERROR(INDEX(Principles[Rating],MATCH(1,(Principles[Domain]=$J$6)*(Principles[Principle]=E15),0)),"")} -> Not assessed | K15: {=IFERROR(INDEX(Principles[Rating],MATCH(1,(Principles[Domain]=$K$6)*(Principles[Principle]=E15),0)),"")} -> Not assessed | L15: {=IFERROR(INDEX(Principles[Rating],MATCH(1,(Principles[Domain]=$L$6)*(Principles[Principle]=E15),0)),"")} -> Not assessed
A16: IDE-01 | B16: IDE-01 - Asset identification | C16: {=IFERROR(INDEX(Principles[Rating],MATCH(1,(Principles[Domain]=$C$15)*(Principles[Principle]=A16),0)),"")} -> Not assessed | E16: PRO-10 | F16: PRO-10 - Regular and proven backups | G16: {=IFERROR(INDEX(Principles[Rating],MATCH(1,(Principles[Domain]=$G$6)*(Principles[Principle]=E16),0)),"")} -> Not assessed | H16: {=IFERROR(INDEX(Principles[Rating],MATCH(1,(Principles[Domain]=$H$6)*(Principles[Principle]=E16),0)),"")} -> Not assessed | I16: {=IFERROR(INDEX(Principles[Rating],MATCH(1,(Principles[Domain]=$I$6)*(Principles[Principle]=E16),0)),"")} -> Not assessed | J16: {=IFERROR(INDEX(Principles[Rating],MATCH(1,(Principles[Domain]=$J$6)*(Principles[Principle]=E16),0)),"")} -> Not assessed | K16: {=IFERROR(INDEX(Principles[Rating],MATCH(1,(Principles[Domain]=$K$6)*(Principles[Principle]=E16),0)),"")} -> Not assessed
A17: IDE-04 | B17: IDE-04 - Security risk identification | C17: {=IFERROR(INDEX(Principles[Rating],MATCH(1,(Principles[Domain]=$C$15)*(Principles[Principle]=A17),0)),"")} -> Not assessed | E17: PRO-18 | F17: PRO-18 - Network segmentation and segregation | G17: {=IFERROR(INDEX(Principles[Rating],MATCH(1,(Principles[Domain]=$G$6)*(Principles[Principle]=E17),0)),"")} -> Not assessed | H17: {=IFERROR(INDEX(Principles[Rating],MATCH(1,(Principles[Domain]=$H$6)*(Principles[Principle]=E17),0)),"")} -> Not assessed | I17: {=IFERROR(INDEX(Principles[Rating],MATCH(1,(Principles[Domain]=$I$6)*(Principles[Principle]=E17),0)),"")} -> Not assessed | J17: {=IFERROR(INDEX(Principles[Rating],MATCH(1,(Principles[Domain]=$J$6)*(Principles[Principle]=E17),0)),"")} -> Not assessed | K17: {=IFERROR(INDEX(Principles[Rating],MATCH(1,(Principles[Domain]=$K$6)*(Principles[Principle]=E17),0)),"")} -> Not assessed
A18: PRO-13 | B18: PRO-13 - Identity, credential and access management | C18: {=IFERROR(INDEX(Principles[Rating],MATCH(1,(Principles[Domain]=$C$15)*(Principles[Principle]=A18),0)),"")} -> Not assessed | E18: PRO-09 | F18: PRO-09 - Content filtering | G18: {=IFERROR(INDEX(Principles[Rating],MATCH(1,(Principles[Domain]=$G$6)*(Principles[Principle]=E18),0)),"")} -> Not assessed | H18: {=IFERROR(INDEX(Principles[Rating],MATCH(1,(Principles[Domain]=$H$6)*(Principles[Principle]=E18),0)),"")} -> Not assessed | I18: {=IFERROR(INDEX(Principles[Rating],MATCH(1,(Principles[Domain]=$I$6)*(Principles[Principle]=E18),0)),"")} -> Not assessed | J18: {=IFERROR(INDEX(Principles[Rating],MATCH(1,(Principles[Domain]=$J$6)*(Principles[Principle]=E18),0)),"")} -> Not assessed | K18: {=IFERROR(INDEX(Principles[Rating],MATCH(1,(Principles[Domain]=$K$6)*(Principles[Principle]=E18),0)),"")} -> Not assessed
A19: DET-01 | B19: DET-01 - Centralised event logging | C19: {=IFERROR(INDEX(Principles[Rating],MATCH(1,(Principles[Domain]=$C$15)*(Principles[Principle]=A19),0)),"")} -> Not assessed | E19: PRO-14 | F19: PRO-14 - Cyber security awareness training | G19: {=IFERROR(INDEX(Principles[Rating],MATCH(1,(Principles[Domain]=$G$6)*(Principles[Principle]=E19),0)),"")} -> Not assessed | H19: {=IFERROR(INDEX(Principles[Rating],MATCH(1,(Principles[Domain]=$H$6)*(Principles[Principle]=E19),0)),"")} -> Not assessed | I19: {=IFERROR(INDEX(Principles[Rating],MATCH(1,(Principles[Domain]=$I$6)*(Principles[Principle]=E19),0)),"")} -> Not assessed | J19: {=IFERROR(INDEX(Principles[Rating],MATCH(1,(Principles[Domain]=$J$6)*(Principles[Principle]=E19),0)),"")} -> Not assessed
A20: DET-02 | B20: DET-02 - Cyber security event detection | C20: {=IFERROR(INDEX(Principles[Rating],MATCH(1,(Principles[Domain]=$C$15)*(Principles[Principle]=A20),0)),"")} -> Not assessed | E20: DET-01 | F20: DET-01 - Centralised event logging | G20: {=IFERROR(INDEX(Principles[Rating],MATCH(1,(Principles[Domain]=$G$6)*(Principles[Principle]=E20),0)),"")} -> Not assessed | H20: {=IFERROR(INDEX(Principles[Rating],MATCH(1,(Principles[Domain]=$H$6)*(Principles[Principle]=E20),0)),"")} -> Not assessed | I20: {=IFERROR(INDEX(Principles[Rating],MATCH(1,(Principles[Domain]=$I$6)*(Principles[Principle]=E20),0)),"")} -> Not assessed | J20: {=IFERROR(INDEX(Principles[Rating],MATCH(1,(Principles[Domain]=$J$6)*(Principles[Principle]=E20),0)),"")} -> Not assessed | K20: {=IFERROR(INDEX(Principles[Rating],MATCH(1,(Principles[Domain]=$K$6)*(Principles[Principle]=E20),0)),"")} -> Not assessed | L20: {=IFERROR(INDEX(Principles[Rating],MATCH(1,(Principles[Domain]=$L$6)*(Principles[Principle]=E20),0)),"")} -> Not assessed
A21: DET-03 | B21: DET-03 - Cyber security incident identification | C21: {=IFERROR(INDEX(Principles[Rating],MATCH(1,(Principles[Domain]=$C$15)*(Principles[Principle]=A21),0)),"")} -> Not assessed | E21: DET-04 | F21: DET-04 - Baseline high-risk access activities | G21: {=IFERROR(INDEX(Principles[Rating],MATCH(1,(Principles[Domain]=$G$6)*(Principles[Principle]=E21),0)),"")} -> Not assessed | H21: {=IFERROR(INDEX(Principles[Rating],MATCH(1,(Principles[Domain]=$H$6)*(Principles[Principle]=E21),0)),"")} -> Not assessed | I21: {=IFERROR(INDEX(Principles[Rating],MATCH(1,(Principles[Domain]=$I$6)*(Principles[Principle]=E21),0)),"")} -> Not assessed | J21: {=IFERROR(INDEX(Principles[Rating],MATCH(1,(Principles[Domain]=$J$6)*(Principles[Principle]=E21),0)),"")} -> Not assessed
A22: DET-05 | B22: DET-05 - Detection capability efficacy | C22: {=IFERROR(INDEX(Principles[Rating],MATCH(1,(Principles[Domain]=$C$15)*(Principles[Principle]=A22),0)),"")} -> Not assessed | E22: DET-02 | F22: DET-02 - Cyber security event detection | G22: {=IFERROR(INDEX(Principles[Rating],MATCH(1,(Principles[Domain]=$G$6)*(Principles[Principle]=E22),0)),"")} -> Not assessed | H22: {=IFERROR(INDEX(Principles[Rating],MATCH(1,(Principles[Domain]=$H$6)*(Principles[Principle]=E22),0)),"")} -> Not assessed | I22: {=IFERROR(INDEX(Principles[Rating],MATCH(1,(Principles[Domain]=$I$6)*(Principles[Principle]=E22),0)),"")} -> Not assessed | J22: {=IFERROR(INDEX(Principles[Rating],MATCH(1,(Principles[Domain]=$J$6)*(Principles[Principle]=E22),0)),"")} -> Not assessed | K22: {=IFERROR(INDEX(Principles[Rating],MATCH(1,(Principles[Domain]=$K$6)*(Principles[Principle]=E22),0)),"")} -> Not assessed | L22: {=IFERROR(INDEX(Principles[Rating],MATCH(1,(Principles[Domain]=$L$6)*(Principles[Principle]=E22),0)),"")} -> Not assessed
A23: RES-05 | B23: RES-05 - Cyber security incident coordination | C23: {=IFERROR(INDEX(Principles[Rating],MATCH(1,(Principles[Domain]=$C$15)*(Principles[Principle]=A23),0)),"")} -> Not assessed
A24: RES-03 | B24: RES-03 - Cyber security incident response | C24: {=IFERROR(INDEX(Principles[Rating],MATCH(1,(Principles[Domain]=$C$15)*(Principles[Principle]=A24),0)),"")} -> Not assessed
A25: RES-04 | B25: RES-04 - Cyber security incident insights | C25: {=IFERROR(INDEX(Principles[Rating],MATCH(1,(Principles[Domain]=$C$15)*(Principles[Principle]=A25),0)),"")} -> Not assessed

Sheet Existing E8 Controls
A1: Existing E8 Controls
A2: This sheet allows you to input the status of the organisations existing E8 controls. Throughout the Workbook, where an E8 control has been mapped to an Action and Domain, it will be shown under the Relevant E8 controls section. This can highlight potential evidence sources that may support the assessment of the Action
A3: How to use the sheet:
A4: 1. Select a Maturity Level (ML0–ML3) for each mitigation strategy below. Controls at or below your selected level are automatically marked as Effective.
A5: 2. Review the E8 Control stable below. Use the Override column to adjust individual control statuses. To allow the reuse of previous assessments,the options include the standardised assessment terminology from the E8 assessment process guide.
A6: 3. The Final Status column shows the effective status, either your override or the automatic calculation. Based on this, related E8 Controls sections throughout this workbook show where existing evidence could support the assessment of each action.
L8: Mitigation Strategy | M8: Maturity Level | N8: Overrides
L9: Patch applications | M9: ML0 | N9: =COUNTIFS(E8Controls[Patch applications],TRUE,E8Controls[Override],"<>") -> 0
L10: Patch operating systems | M10: ML0 | N10: =COUNTIFS(E8Controls[Patch operating systems],TRUE,E8Controls[Override],"<>") -> 0
L11: Multi-factor authentication | M11: ML0 | N11: =COUNTIFS(E8Controls[Multi-factor authentication],TRUE,E8Controls[Override],"<>") -> 0
L12: Restrict administrative privileges | M12: ML0 | N12: =COUNTIFS(E8Controls[Restrict administrative privileges],TRUE,E8Controls[Override],"<>") -> 0
L13: Application control | M13: ML0 | N13: =COUNTIFS(E8Controls[Application control],TRUE,E8Controls[Override],"<>") -> 0
L14: Restrict Microsoft Office macros | M14: ML0 | N14: =COUNTIFS(E8Controls[Restrict Microsoft Office macros],TRUE,E8Controls[Override],"<>") -> 0
L15: User application hardening | M15: ML0 | N15: =COUNTIFS(E8Controls[User application hardening],TRUE,E8Controls[Override],"<>") -> 0
L16: Regular backups | M16: ML0 | N16: =COUNTIFS(E8Controls[Regular backups],TRUE,E8Controls[Override],"<>") -> 0
A19: Maturity Level 1 | B19: Maturity Level 2 | C19: Maturity Level 3 | D19: Patch applications | E19: Patch operating systems | F19: Multi-factor authentication | G19: Restrict administrative privileges | H19: Application control | I19: Restrict Microsoft Office macros | J19: User application hardening | K19: Regular backups | L19: ISM Control | M19: Description | N19: Maturity Levels | O19: Mitigation Strategies | P19: Auto Status | Q19: Override | R19: Final Status | S19: E8 Evidence | T19: Impl (Patch applications) | U19: Impl (Patch operating systems) | V19: Impl (Multi-factor authentication) | W19: Impl (Restrict administrative privileges) | X19: Impl (Application control) | Y19: Impl (Restrict Microsoft Office macros) | Z19: Impl (User application hardening) | AA19: Impl (Regular backups)
A20: FALSE | B20: FALSE | C20: TRUE | D20: FALSE | E20: FALSE | F20: TRUE | G20: TRUE | H20: TRUE | I20: FALSE | J20: TRUE | K20: FALSE | L20: ISM-0109 | M20: Event logs from workstations are analysed in a timely manner to detect cybersecurity events. | N20: ML3 | O20: Multi-factor Authentication, Restrict Administrative Privileges, Application Control, User Application Hardening | P20: =IF(OR(E8Controls[[#This Row],[Impl (Patch applications)]],E8Controls[[#This Row],[Impl (Patch operating systems)]],E8Controls[[#This Row],[Impl (Multi-factor authentication)]],E8Controls[[#This Row],[Impl (Restrict administrative privileges)]],E8Controls[[#This Row],[Impl (Application control)]],E8Controls[[#This Row],[Impl (Restrict Microsoft Office macros)]],E8Controls[[#This Row],[Impl (User application hardening)]],E8Controls[[#This Row],[Impl (Regular backups)]]),"Effective","Not assessed") -> Not assessed | R20: =IF(E8Controls[[#This Row],[Override]]<>"",E8Controls[[#This Row],[Override]],E8Controls[[#This Row],[Auto Status]]) -> Not assessed | S20: =IF(OR(E8Controls[[#This Row],[Final Status]]="Effective",E8Controls[[#This Row],[Final Status]]="Alternate control"),1,IF(OR(E8Controls[[#This Row],[Final Status]]="Ineffective",E8Controls[[#This Row],[Final Status]]="Not implemented"),-1,0)) -> 0 | T20: =OR(AND(E8Controls[[#This Row],[Maturity Level 1]],$M$9="ML1"),AND(E8Controls[[#This Row],[Maturity Level 2]],$M$9="ML2"),AND(E8Controls[[#This Row],[Maturity Level 3]],$M$9="ML3")) -> FALSE | U20: =OR(AND(E8Controls[[#This Row],[Maturity Level 1]],$M$10="ML1"),AND(E8Controls[[#This Row],[Maturity Level 2]],$M$10="ML2"),AND(E8Controls[[#This Row],[Maturity Level 3]],$M$10="ML3")) -> FALSE | V20: =OR(AND(E8Controls[[#This Row],[Maturity Level 1]],$M$11="ML1"),AND(E8Controls[[#This Row],[Maturity Level 2]],$M$11="ML2"),AND(E8Controls[[#This Row],[Maturity Level 3]],$M$11="ML3")) -> FALSE | W20: =OR(AND(E8Controls[[#This Row],[Maturity Level 1]],$M$12="ML1"),AND(E8Controls[[#This Row],[Maturity Level 2]],$M$12="ML2"),AND(E8Controls[[#This Row],[Maturity Level 3]],$M$12="ML3")) -> FALSE | X20: =OR(AND(E8Controls[[#This Row],[Maturity Level 1]],$M$13="ML1"),AND(E8Controls[[#This Row],[Maturity Level 2]],$M$13="ML2"),AND(E8Controls[[#This Row],[Maturity Level 3]],$M$13="ML3")) -> FALSE | Y20: =OR(AND(E8Controls[[#This Row],[Maturity Level 1]],$M$14="ML1"),AND(E8Controls[[#This Row],[Maturity Level 2]],$M$14="ML2"),AND(E8Controls[[#This Row],[Maturity Level 3]],$M$14="ML3")) -> FALSE | Z20: =OR(AND(E8Controls[[#This Row],[Maturity Level 1]],$M$15="ML1"),AND(E8Controls[[#This Row],[Maturity Level 2]],$M$15="ML2"),AND(E8Controls[[#This Row],[Maturity Level 3]],$M$15="ML3")) -> FALSE | AA20: =OR(AND(E8Controls[[#This Row],[Maturity Level 1]],$M$16="ML1"),AND(E8Controls[[#This Row],[Maturity Level 2]],$M$16="ML2"),AND(E8Controls[[#This Row],[Maturity Level 3]],$M$16="ML3")) -> FALSE
A21: FALSE | B21: TRUE | C21: TRUE | D21: FALSE | E21: FALSE | F21: TRUE | G21: TRUE | H21: TRUE | I21: FALSE | J21: TRUE | K21: FALSE | L21: ISM-0140 | M21: Cybersecurity incidents are reported to ASD as soon as possible after they occur or are discovered. | N21: ML2, ML3 | O21: Multi-factor Authentication, Restrict Administrative Privileges, Application Control, User Application Hardening | P21: =IF(OR(E8Controls[[#This Row],[Impl (Patch applications)]],E8Controls[[#This Row],[Impl (Patch operating systems)]],E8Controls[[#This Row],[Impl (Multi-factor authentication)]],E8Controls[[#This Row],[Impl (Restrict administrative privileges)]],E8Controls[[#This Row],[Impl (Application control)]],E8Controls[[#This Row],[Impl (Restrict Microsoft Office macros)]],E8Controls[[#This Row],[Impl (User application hardening)]],E8Controls[[#This Row],[Impl (Regular backups)]]),"Effective","Not assessed") -> Not assessed | R21: =IF(E8Controls[[#This Row],[Override]]<>"",E8Controls[[#This Row],[Override]],E8Controls[[#This Row],[Auto Status]]) -> Not assessed | S21: =IF(OR(E8Controls[[#This Row],[Final Status]]="Effective",E8Controls[[#This Row],[Final Status]]="Alternate control"),1,IF(OR(E8Controls[[#This Row],[Final Status]]="Ineffective",E8Controls[[#This Row],[Final Status]]="Not implemented"),-1,0)) -> 0 | T21: =OR(AND(E8Controls[[#This Row],[Maturity Level 1]],$M$9="ML1"),AND(E8Controls[[#This Row],[Maturity Level 2]],$M$9="ML2"),AND(E8Controls[[#This Row],[Maturity Level 3]],$M$9="ML3")) -> FALSE | U21: =OR(AND(E8Controls[[#This Row],[Maturity Level 1]],$M$10="ML1"),AND(E8Controls[[#This Row],[Maturity Level 2]],$M$10="ML2"),AND(E8Controls[[#This Row],[Maturity Level 3]],$M$10="ML3")) -> FALSE | V21: =OR(AND(E8Controls[[#This Row],[Maturity Level 1]],$M$11="ML1"),AND(E8Controls[[#This Row],[Maturity Level 2]],$M$11="ML2"),AND(E8Controls[[#This Row],[Maturity Level 3]],$M$11="ML3")) -> FALSE | W21: =OR(AND(E8Controls[[#This Row],[Maturity Level 1]],$M$12="ML1"),AND(E8Controls[[#This Row],[Maturity Level 2]],$M$12="ML2"),AND(E8Controls[[#This Row],[Maturity Level 3]],$M$12="ML3")) -> FALSE | X21: =OR(AND(E8Controls[[#This Row],[Maturity Level 1]],$M$13="ML1"),AND(E8Controls[[#This Row],[Maturity Level 2]],$M$13="ML2"),AND(E8Controls[[#This Row],[Maturity Level 3]],$M$13="ML3")) -> FALSE | Y21: =OR(AND(E8Controls[[#This Row],[Maturity Level 1]],$M$14="ML1"),AND(E8Controls[[#This Row],[Maturity Level 2]],$M$14="ML2"),AND(E8Controls[[#This Row],[Maturity Level 3]],$M$14="ML3")) -> FALSE | Z21: =OR(AND(E8Controls[[#This Row],[Maturity Level 1]],$M$15="ML1"),AND(E8Controls[[#This Row],[Maturity Level 2]],$M$15="ML2"),AND(E8Controls[[#This Row],[Maturity Level 3]],$M$15="ML3")) -> FALSE | AA21: =OR(AND(E8Controls[[#This Row],[Maturity Level 1]],$M$16="ML1"),AND(E8Controls[[#This Row],[Maturity Level 2]],$M$16="ML2"),AND(E8Controls[[#This Row],[Maturity Level 3]],$M$16="ML3")) -> FALSE
A22: TRUE | B22: TRUE | C22: TRUE | D22: FALSE | E22: FALSE | F22: FALSE | G22: TRUE | H22: FALSE | I22: FALSE | J22: FALSE | K22: FALSE | L22: ISM-0445 | M22: Privileged users are assigned a dedicated privileged user account to be used solely for duties requiring privileged access. | N22: ML1, ML2, ML3 | O22: Restrict Administrative Privileges | P22: =IF(OR(E8Controls[[#This Row],[Impl (Patch applications)]],E8Controls[[#This Row],[Impl (Patch operating systems)]],E8Controls[[#This Row],[Impl (Multi-factor authentication)]],E8Controls[[#This Row],[Impl (Restrict administrative privileges)]],E8Controls[[#This Row],[Impl (Application control)]],E8Controls[[#This Row],[Impl (Restrict Microsoft Office macros)]],E8Controls[[#This Row],[Impl (User application hardening)]],E8Controls[[#This Row],[Impl (Regular backups)]]),"Effective","Not assessed") -> Not assessed | R22: =IF(E8Controls[[#This Row],[Override]]<>"",E8Controls[[#This Row],[Override]],E8Controls[[#This Row],[Auto Status]]) -> Not assessed | S22: =IF(OR(E8Controls[[#This Row],[Final Status]]="Effective",E8Controls[[#This Row],[Final Status]]="Alternate control"),1,IF(OR(E8Controls[[#This Row],[Final Status]]="Ineffective",E8Controls[[#This Row],[Final Status]]="Not implemented"),-1,0)) -> 0 | T22: =OR(AND(E8Controls[[#This Row],[Maturity Level 1]],$M$9="ML1"),AND(E8Controls[[#This Row],[Maturity Level 2]],$M$9="ML2"),AND(E8Controls[[#This Row],[Maturity Level 3]],$M$9="ML3")) -> FALSE | U22: =OR(AND(E8Controls[[#This Row],[Maturity Level 1]],$M$10="ML1"),AND(E8Controls[[#This Row],[Maturity Level 2]],$M$10="ML2"),AND(E8Controls[[#This Row],[Maturity Level 3]],$M$10="ML3")) -> FALSE | V22: =OR(AND(E8Controls[[#This Row],[Maturity Level 1]],$M$11="ML1"),AND(E8Controls[[#This Row],[Maturity Level 2]],$M$11="ML2"),AND(E8Controls[[#This Row],[Maturity Level 3]],$M$11="ML3")) -> FALSE | W22: =OR(AND(E8Controls[[#This Row],[Maturity Level 1]],$M$12="ML1"),AND(E8Controls[[#This Row],[Maturity Level 2]],$M$12="ML2"),AND(E8Controls[[#This Row],[Maturity Level 3]],$M$12="ML3")) -> FALSE | X22: =OR(AND(E8Controls[[#This Row],[Maturity Level 1]],$M$13="ML1"),AND(E8Controls[[#This Row],[Maturity Level 2]],$M$13="ML2"),AND(E8Controls[[#This Row],[Maturity Level 3]],$M$13="ML3")) -> FALSE | Y22: =OR(AND(E8Controls[[#This Row],[Maturity Level 1]],$M$14="ML1"),AND(E8Controls[[#This Row],[Maturity Level 2]],$M$14="ML2"),AND(E8Controls[[#This Row],[Maturity Level 3]],$M$14="ML3")) -> FALSE | Z22: =OR(AND(E8Controls[[#This Row],[Maturity Level 1]],$M$15="ML1"),AND(E8Controls[[#This Row],[Maturity Level 2]],$M$15="ML2"),AND(E8Controls[[#This Row],[Maturity Level 3]],$M$15="ML3")) -> FALSE | AA22: =OR(AND(E8Controls[[#This Row],[Maturity Level 1]],$M$16="ML1"),AND(E8Controls[[#This Row],[Maturity Level 2]],$M$16="ML2"),AND(E8Controls[[#This Row],[Maturity Level 3]],$M$16="ML3")) -> FALSE
A23: TRUE | B23: TRUE | C23: TRUE | D23: FALSE | E23: FALSE | F23: FALSE | G23: FALSE | H23: TRUE | I23: FALSE | J23: FALSE | K23: FALSE | L23: ISM-0843 | M23: Application control is implemented on workstations. | N23: ML1, ML2, ML3 | O23: Application Control | P23: =IF(OR(E8Controls[[#This Row],[Impl (Patch applications)]],E8Controls[[#This Row],[Impl (Patch operating systems)]],E8Controls[[#This Row],[Impl (Multi-factor authentication)]],E8Controls[[#This Row],[Impl (Restrict administrative privileges)]],E8Controls[[#This Row],[Impl (Application control)]],E8Controls[[#This Row],[Impl (Restrict Microsoft Office macros)]],E8Controls[[#This Row],[Impl (User application hardening)]],E8Controls[[#This Row],[Impl (Regular backups)]]),"Effective","Not assessed") -> Not assessed | R23: =IF(E8Controls[[#This Row],[Override]]<>"",E8Controls[[#This Row],[Override]],E8Controls[[#This Row],[Auto Status]]) -> Not assessed | S23: =IF(OR(E8Controls[[#This Row],[Final Status]]="Effective",E8Controls[[#This Row],[Final Status]]="Alternate control"),1,IF(OR(E8Controls[[#This Row],[Final Status]]="Ineffective",E8Controls[[#This Row],[Final Status]]="Not implemented"),-1,0)) -> 0 | T23: =OR(AND(E8Controls[[#This Row],[Maturity Level 1]],$M$9="ML1"),AND(E8Controls[[#This Row],[Maturity Level 2]],$M$9="ML2"),AND(E8Controls[[#This Row],[Maturity Level 3]],$M$9="ML3")) -> FALSE | U23: =OR(AND(E8Controls[[#This Row],[Maturity Level 1]],$M$10="ML1"),AND(E8Controls[[#This Row],[Maturity Level 2]],$M$10="ML2"),AND(E8Controls[[#This Row],[Maturity Level 3]],$M$10="ML3")) -> FALSE | V23: =OR(AND(E8Controls[[#This Row],[Maturity Level 1]],$M$11="ML1"),AND(E8Controls[[#This Row],[Maturity Level 2]],$M$11="ML2"),AND(E8Controls[[#This Row],[Maturity Level 3]],$M$11="ML3")) -> FALSE | W23: =OR(AND(E8Controls[[#This Row],[Maturity Level 1]],$M$12="ML1"),AND(E8Controls[[#This Row],[Maturity Level 2]],$M$12="ML2"),AND(E8Controls[[#This Row],[Maturity Level 3]],$M$12="ML3")) -> FALSE | X23: =OR(AND(E8Controls[[#This Row],[Maturity Level 1]],$M$13="ML1"),AND(E8Controls[[#This Row],[Maturity Level 2]],$M$13="ML2"),AND(E8Controls[[#This Row],[Maturity Level 3]],$M$13="ML3")) -> FALSE | Y23: =OR(AND(E8Controls[[#This Row],[Maturity Level 1]],$M$14="ML1"),AND(E8Controls[[#This Row],[Maturity Level 2]],$M$14="ML2"),AND(E8Controls[[#This Row],[Maturity Level 3]],$M$14="ML3")) -> FALSE | Z23: =OR(AND(E8Controls[[#This Row],[Maturity Level 1]],$M$15="ML1"),AND(E8Controls[[#This Row],[Maturity Level 2]],$M$15="ML2"),AND(E8Controls[[#This Row],[Maturity Level 3]],$M$15="ML3")) -> FALSE | AA23: =OR(AND(E8Controls[[#This Row],[Maturity Level 1]],$M$16="ML1"),AND(E8Controls[[#This Row],[Maturity Level 2]],$M$16="ML2"),AND(E8Controls[[#This Row],[Maturity Level 3]],$M$16="ML3")) -> FALSE
A24: FALSE | B24: TRUE | C24: TRUE | D24: FALSE | E24: FALSE | F24: TRUE | G24: FALSE | H24: FALSE | I24: FALSE | J24: FALSE | K24: FALSE | L24: ISM-0974 | M24: Multi-factor authentication is used to authenticate unprivileged users of systems. | N24: ML2, ML3 | O24: Multi-factor Authentication | P24: =IF(OR(E8Controls[[#This Row],[Impl (Patch applications)]],E8Controls[[#This Row],[Impl (Patch operating systems)]],E8Controls[[#This Row],[Impl (Multi-factor authentication)]],E8Controls[[#This Row],[Impl (Restrict administrative privileges)]],E8Controls[[#This Row],[Impl (Application control)]],E8Controls[[#This Row],[Impl (Restrict Microsoft Office macros)]],E8Controls[[#This Row],[Impl (User application hardening)]],E8Controls[[#This Row],[Impl (Regular backups)]]),"Effective","Not assessed") -> Not assessed | R24: =IF(E8Controls[[#This Row],[Override]]<>"",E8Controls[[#This Row],[Override]],E8Controls[[#This Row],[Auto Status]]) -> Not assessed | S24: =IF(OR(E8Controls[[#This Row],[Final Status]]="Effective",E8Controls[[#This Row],[Final Status]]="Alternate control"),1,IF(OR(E8Controls[[#This Row],[Final Status]]="Ineffective",E8Controls[[#This Row],[Final Status]]="Not implemented"),-1,0)) -> 0 | T24: =OR(AND(E8Controls[[#This Row],[Maturity Level 1]],$M$9="ML1"),AND(E8Controls[[#This Row],[Maturity Level 2]],$M$9="ML2"),AND(E8Controls[[#This Row],[Maturity Level 3]],$M$9="ML3")) -> FALSE | U24: =OR(AND(E8Controls[[#This Row],[Maturity Level 1]],$M$10="ML1"),AND(E8Controls[[#This Row],[Maturity Level 2]],$M$10="ML2"),AND(E8Controls[[#This Row],[Maturity Level 3]],$M$10="ML3")) -> FALSE | V24: =OR(AND(E8Controls[[#This Row],[Maturity Level 1]],$M$11="ML1"),AND(E8Controls[[#This Row],[Maturity Level 2]],$M$11="ML2"),AND(E8Controls[[#This Row],[Maturity Level 3]],$M$11="ML3")) -> FALSE | W24: =OR(AND(E8Controls[[#This Row],[Maturity Level 1]],$M$12="ML1"),AND(E8Controls[[#This Row],[Maturity Level 2]],$M$12="ML2"),AND(E8Controls[[#This Row],[Maturity Level 3]],$M$12="ML3")) -> FALSE | X24: =OR(AND(E8Controls[[#This Row],[Maturity Level 1]],$M$13="ML1"),AND(E8Controls[[#This Row],[Maturity Level 2]],$M$13="ML2"),AND(E8Controls[[#This Row],[Maturity Level 3]],$M$13="ML3")) -> FALSE | Y24: =OR(AND(E8Controls[[#This Row],[Maturity Level 1]],$M$14="ML1"),AND(E8Controls[[#This Row],[Maturity Level 2]],$M$14="ML2"),AND(E8Controls[[#This Row],[Maturity Level 3]],$M$14="ML3")) -> FALSE | Z24: =OR(AND(E8Controls[[#This Row],[Maturity Level 1]],$M$15="ML1"),AND(E8Controls[[#This Row],[Maturity Level 2]],$M$15="ML2"),AND(E8Controls[[#This Row],[Maturity Level 3]],$M$15="ML3")) -> FALSE | AA24: =OR(AND(E8Controls[[#This Row],[Maturity Level 1]],$M$16="ML1"),AND(E8Controls[[#This Row],[Maturity Level 2]],$M$16="ML2"),AND(E8Controls[[#This Row],[Maturity Level 3]],$M$16="ML3")) -> FALSE
A25: FALSE | B25: TRUE | C25: TRUE | D25: FALSE | E25: FALSE | F25: TRUE | G25: FALSE | H25: FALSE | I25: FALSE | J25: FALSE | K25: FALSE | L25: ISM-1173 | M25: Multi-factor authentication is used to authenticate privileged users of systems. | N25: ML2, ML3 | O25: Multi-factor Authentication | P25: =IF(OR(E8Controls[[#This Row],[Impl (Patch applications)]],E8Controls[[#This Row],[Impl (Patch operating systems)]],E8Controls[[#This Row],[Impl (Multi-factor authentication)]],E8Controls[[#This Row],[Impl (Restrict administrative privileges)]],E8Controls[[#This Row],[Impl (Application control)]],E8Controls[[#This Row],[Impl (Restrict Microsoft Office macros)]],E8Controls[[#This Row],[Impl (User application hardening)]],E8Controls[[#This Row],[Impl (Regular backups)]]),"Effective","Not assessed") -> Not assessed | R25: =IF(E8Controls[[#This Row],[Override]]<>"",E8Controls[[#This Row],[Override]],E8Controls[[#This Row],[Auto Status]]) -> Not assessed | S25: =IF(OR(E8Controls[[#This Row],[Final Status]]="Effective",E8Controls[[#This Row],[Final Status]]="Alternate control"),1,IF(OR(E8Controls[[#This Row],[Final Status]]="Ineffective",E8Controls[[#This Row],[Final Status]]="Not implemented"),-1,0)) -> 0 | T25: =OR(AND(E8Controls[[#This Row],[Maturity Level 1]],$M$9="ML1"),AND(E8Controls[[#This Row],[Maturity Level 2]],$M$9="ML2"),AND(E8Controls[[#This Row],[Maturity Level 3]],$M$9="ML3")) -> FALSE | U25: =OR(AND(E8Controls[[#This Row],[Maturity Level 1]],$M$10="ML1"),AND(E8Controls[[#This Row],[Maturity Level 2]],$M$10="ML2"),AND(E8Controls[[#This Row],[Maturity Level 3]],$M$10="ML3")) -> FALSE | V25: =OR(AND(E8Controls[[#This Row],[Maturity Level 1]],$M$11="ML1"),AND(E8Controls[[#This Row],[Maturity Level 2]],$M$11="ML2"),AND(E8Controls[[#This Row],[Maturity Level 3]],$M$11="ML3")) -> FALSE | W25: =OR(AND(E8Controls[[#This Row],[Maturity Level 1]],$M$12="ML1"),AND(E8Controls[[#This Row],[Maturity Level 2]],$M$12="ML2"),AND(E8Controls[[#This Row],[Maturity Level 3]],$M$12="ML3")) -> FALSE | X25: =OR(AND(E8Controls[[#This Row],[Maturity Level 1]],$M$13="ML1"),AND(E8Controls[[#This Row],[Maturity Level 2]],$M$13="ML2"),AND(E8Controls[[#This Row],[Maturity Level 3]],$M$13="ML3")) -> FALSE | Y25: =OR(AND(E8Controls[[#This Row],[Maturity Level 1]],$M$14="ML1"),AND(E8Controls[[#This Row],[Maturity Level 2]],$M$14="ML2"),AND(E8Controls[[#This Row],[Maturity Level 3]],$M$14="ML3")) -> FALSE | Z25: =OR(AND(E8Controls[[#This Row],[Maturity Level 1]],$M$15="ML1"),AND(E8Controls[[#This Row],[Maturity Level 2]],$M$15="ML2"),AND(E8Controls[[#This Row],[Maturity Level 3]],$M$15="ML3")) -> FALSE | AA25: =OR(AND(E8Controls[[#This Row],[Maturity Level 1]],$M$16="ML1"),AND(E8Controls[[#This Row],[Maturity Level 2]],$M$16="ML2"),AND(E8Controls[[#This Row],[Maturity Level 3]],$M$16="ML3")) -> FALSE
A26: TRUE | B26: TRUE | C26: TRUE | D26: FALSE | E26: FALSE | F26: FALSE | G26: TRUE | H26: FALSE | I26: FALSE | J26: FALSE | K26: FALSE | L26: ISM-1175 | M26: Privileged user accounts (excluding those explicitly authorised to access online services) are prevented from accessing the internet, email and web services. | N26: ML1, ML2, ML3 | O26: Restrict Administrative Privileges | P26: =IF(OR(E8Controls[[#This Row],[Impl (Patch applications)]],E8Controls[[#This Row],[Impl (Patch operating systems)]],E8Controls[[#This Row],[Impl (Multi-factor authentication)]],E8Controls[[#This Row],[Impl (Restrict administrative privileges)]],E8Controls[[#This Row],[Impl (Application control)]],E8Controls[[#This Row],[Impl (Restrict Microsoft Office macros)]],E8Controls[[#This Row],[Impl (User application hardening)]],E8Controls[[#This Row],[Impl (Regular backups)]]),"Effective","Not assessed") -> Not assessed | R26: =IF(E8Controls[[#This Row],[Override]]<>"",E8Controls[[#This Row],[Override]],E8Controls[[#This Row],[Auto Status]]) -> Not assessed | S26: =IF(OR(E8Controls[[#This Row],[Final Status]]="Effective",E8Controls[[#This Row],[Final Status]]="Alternate control"),1,IF(OR(E8Controls[[#This Row],[Final Status]]="Ineffective",E8Controls[[#This Row],[Final Status]]="Not implemented"),-1,0)) -> 0 | T26: =OR(AND(E8Controls[[#This Row],[Maturity Level 1]],$M$9="ML1"),AND(E8Controls[[#This Row],[Maturity Level 2]],$M$9="ML2"),AND(E8Controls[[#This Row],[Maturity Level 3]],$M$9="ML3")) -> FALSE | U26: =OR(AND(E8Controls[[#This Row],[Maturity Level 1]],$M$10="ML1"),AND(E8Controls[[#This Row],[Maturity Level 2]],$M$10="ML2"),AND(E8Controls[[#This Row],[Maturity Level 3]],$M$10="ML3")) -> FALSE | V26: =OR(AND(E8Controls[[#This Row],[Maturity Level 1]],$M$11="ML1"),AND(E8Controls[[#This Row],[Maturity Level 2]],$M$11="ML2"),AND(E8Controls[[#This Row],[Maturity Level 3]],$M$11="ML3")) -> FALSE | W26: =OR(AND(E8Controls[[#This Row],[Maturity Level 1]],$M$12="ML1"),AND(E8Controls[[#This Row],[Maturity Level 2]],$M$12="ML2"),AND(E8Controls[[#This Row],[Maturity Level 3]],$M$12="ML3")) -> FALSE | X26: =OR(AND(E8Controls[[#This Row],[Maturity Level 1]],$M$13="ML1"),AND(E8Controls[[#This Row],[Maturity Level 2]],$M$13="ML2"),AND(E8Controls[[#This Row],[Maturity Level 3]],$M$13="ML3")) -> FALSE | Y26: =OR(AND(E8Controls[[#This Row],[Maturity Level 1]],$M$14="ML1"),AND(E8Controls[[#This Row],[Maturity Level 2]],$M$14="ML2"),AND(E8Controls[[#This Row],[Maturity Level 3]],$M$14="ML3")) -> FALSE | Z26: =OR(AND(E8Controls[[#This Row],[Maturity Level 1]],$M$15="ML1"),AND(E8Controls[[#This Row],[Maturity Level 2]],$M$15="ML2"),AND(E8Controls[[#This Row],[Maturity Level 3]],$M$15="ML3")) -> FALSE | AA26: =OR(AND(E8Controls[[#This Row],[Maturity Level 1]],$M$16="ML1"),AND(E8Controls[[#This Row],[Maturity Level 2]],$M$16="ML2"),AND(E8Controls[[#This Row],[Maturity Level 3]],$M$16="ML3")) -> FALSE
A27: FALSE | B27: TRUE | C27: TRUE | D27: FALSE | E27: FALSE | F27: TRUE | G27: TRUE | H27: TRUE | I27: FALSE | J27: TRUE | K27: FALSE | L27: ISM-1228 | M27: Cybersecurity events are analysed in a timely manner to identify cybersecurity incidents. | N27: ML2, ML3 | O27: Multi-factor Authentication, Restrict Administrative Privileges, Application Control, User Application Hardening | P27: =IF(OR(E8Controls[[#This Row],[Impl (Patch applications)]],E8Controls[[#This Row],[Impl (Patch operating systems)]],E8Controls[[#This Row],[Impl (Multi-factor authentication)]],E8Controls[[#This Row],[Impl (Restrict administrative privileges)]],E8Controls[[#This Row],[Impl (Application control)]],E8Controls[[#This Row],[Impl (Restrict Microsoft Office macros)]],E8Controls[[#This Row],[Impl (User application hardening)]],E8Controls[[#This Row],[Impl (Regular backups)]]),"Effective","Not assessed") -> Not assessed | R27: =IF(E8Controls[[#This Row],[Override]]<>"",E8Controls[[#This Row],[Override]],E8Controls[[#This Row],[Auto Status]]) -> Not assessed | S27: =IF(OR(E8Controls[[#This Row],[Final Status]]="Effective",E8Controls[[#This Row],[Final Status]]="Alternate control"),1,IF(OR(E8Controls[[#This Row],[Final Status]]="Ineffective",E8Controls[[#This Row],[Final Status]]="Not implemented"),-1,0)) -> 0 | T27: =OR(AND(E8Controls[[#This Row],[Maturity Level 1]],$M$9="ML1"),AND(E8Controls[[#This Row],[Maturity Level 2]],$M$9="ML2"),AND(E8Controls[[#This Row],[Maturity Level 3]],$M$9="ML3")) -> FALSE | U27: =OR(AND(E8Controls[[#This Row],[Maturity Level 1]],$M$10="ML1"),AND(E8Controls[[#This Row],[Maturity Level 2]],$M$10="ML2"),AND(E8Controls[[#This Row],[Maturity Level 3]],$M$10="ML3")) -> FALSE | V27: =OR(AND(E8Controls[[#This Row],[Maturity Level 1]],$M$11="ML1"),AND(E8Controls[[#This Row],[Maturity Level 2]],$M$11="ML2"),AND(E8Controls[[#This Row],[Maturity Level 3]],$M$11="ML3")) -> FALSE | W27: =OR(AND(E8Controls[[#This Row],[Maturity Level 1]],$M$12="ML1"),AND(E8Controls[[#This Row],[Maturity Level 2]],$M$12="ML2"),AND(E8Controls[[#This Row],[Maturity Level 3]],$M$12="ML3")) -> FALSE | X27: =OR(AND(E8Controls[[#This Row],[Maturity Level 1]],$M$13="ML1"),AND(E8Controls[[#This Row],[Maturity Level 2]],$M$13="ML2"),AND(E8Controls[[#This Row],[Maturity Level 3]],$M$13="ML3")) -> FALSE | Y27: =OR(AND(E8Controls[[#This Row],[Maturity Level 1]],$M$14="ML1"),AND(E8Controls[[#This Row],[Maturity Level 2]],$M$14="ML2"),AND(E8Controls[[#This Row],[Maturity Level 3]],$M$14="ML3")) -> FALSE | Z27: =OR(AND(E8Controls[[#This Row],[Maturity Level 1]],$M$15="ML1"),AND(E8Controls[[#This Row],[Maturity Level 2]],$M$15="ML2"),AND(E8Controls[[#This Row],[Maturity Level 3]],$M$15="ML3")) -> FALSE | AA27: =OR(AND(E8Controls[[#This Row],[Maturity Level 1]],$M$16="ML1"),AND(E8Controls[[#This Row],[Maturity Level 2]],$M$16="ML2"),AND(E8Controls[[#This Row],[Maturity Level 3]],$M$16="ML3")) -> FALSE
A28: TRUE | B28: TRUE | C28: TRUE | D28: FALSE | E28: FALSE | F28: FALSE | G28: TRUE | H28: FALSE | I28: FALSE | J28: FALSE | K28: FALSE | L28: ISM-1380 | M28: Privileged users use separate privileged and unprivileged operating environments. | N28: ML1, ML2, ML3 | O28: Restrict Administrative Privileges | P28: =IF(OR(E8Controls[[#This Row],[Impl (Patch applications)]],E8Controls[[#This Row],[Impl (Patch operating systems)]],E8Controls[[#This Row],[Impl (Multi-factor authentication)]],E8Controls[[#This Row],[Impl (Restrict administrative privileges)]],E8Controls[[#This Row],[Impl (Application control)]],E8Controls[[#This Row],[Impl (Restrict Microsoft Office macros)]],E8Controls[[#This Row],[Impl (User application hardening)]],E8Controls[[#This Row],[Impl (Regular backups)]]),"Effective","Not assessed") -> Not assessed | R28: =IF(E8Controls[[#This Row],[Override]]<>"",E8Controls[[#This Row],[Override]],E8Controls[[#This Row],[Auto Status]]) -> Not assessed | S28: =IF(OR(E8Controls[[#This Row],[Final Status]]="Effective",E8Controls[[#This Row],[Final Status]]="Alternate control"),1,IF(OR(E8Controls[[#This Row],[Final Status]]="Ineffective",E8Controls[[#This Row],[Final Status]]="Not implemented"),-1,0)) -> 0 | T28: =OR(AND(E8Controls[[#This Row],[Maturity Level 1]],$M$9="ML1"),AND(E8Controls[[#This Row],[Maturity Level 2]],$M$9="ML2"),AND(E8Controls[[#This Row],[Maturity Level 3]],$M$9="ML3")) -> FALSE | U28: =OR(AND(E8Controls[[#This Row],[Maturity Level 1]],$M$10="ML1"),AND(E8Controls[[#This Row],[Maturity Level 2]],$M$10="ML2"),AND(E8Controls[[#This Row],[Maturity Level 3]],$M$10="ML3")) -> FALSE | V28: =OR(AND(E8Controls[[#This Row],[Maturity Level 1]],$M$11="ML1"),AND(E8Controls[[#This Row],[Maturity Level 2]],$M$11="ML2"),AND(E8Controls[[#This Row],[Maturity Level 3]],$M$11="ML3")) -> FALSE | W28: =OR(AND(E8Controls[[#This Row],[Maturity Level 1]],$M$12="ML1"),AND(E8Controls[[#This Row],[Maturity Level 2]],$M$12="ML2"),AND(E8Controls[[#This Row],[Maturity Level 3]],$M$12="ML3")) -> FALSE | X28: =OR(AND(E8Controls[[#This Row],[Maturity Level 1]],$M$13="ML1"),AND(E8Controls[[#This Row],[Maturity Level 2]],$M$13="ML2"),AND(E8Controls[[#This Row],[Maturity Level 3]],$M$13="ML3")) -> FALSE | Y28: =OR(AND(E8Controls[[#This Row],[Maturity Level 1]],$M$14="ML1"),AND(E8Controls[[#This Row],[Maturity Level 2]],$M$14="ML2"),AND(E8Controls[[#This Row],[Maturity Level 3]],$M$14="ML3")) -> FALSE | Z28: =OR(AND(E8Controls[[#This Row],[Maturity Level 1]],$M$15="ML1"),AND(E8Controls[[#This Row],[Maturity Level 2]],$M$15="ML2"),AND(E8Controls[[#This Row],[Maturity Level 3]],$M$15="ML3")) -> FALSE | AA28: =OR(AND(E8Controls[[#This Row],[Maturity Level 1]],$M$16="ML1"),AND(E8Controls[[#This Row],[Maturity Level 2]],$M$16="ML2"),AND(E8Controls[[#This Row],[Maturity Level 3]],$M$16="ML3")) -> FALSE
A29: FALSE | B29: TRUE | C29: TRUE | D29: FALSE | E29: FALSE | F29: FALSE | G29: TRUE | H29: FALSE | I29: FALSE | J29: FALSE | K29: FALSE | L29: ISM-1387 | M29: Administrative activities are conducted through jump servers. | N29: ML2, ML3 | O29: Restrict Administrative Privileges | P29: =IF(OR(E8Controls[[#This Row],[Impl (Patch applications)]],E8Controls[[#This Row],[Impl (Patch operating systems)]],E8Controls[[#This Row],[Impl (Multi-factor authentication)]],E8Controls[[#This Row],[Impl (Restrict administrative privileges)]],E8Controls[[#This Row],[Impl (Application control)]],E8Controls[[#This Row],[Impl (Restrict Microsoft Office macros)]],E8Controls[[#This Row],[Impl (User application hardening)]],E8Controls[[#This Row],[Impl (Regular backups)]]),"Effective","Not assessed") -> Not assessed | R29: =IF(E8Controls[[#This Row],[Override]]<>"",E8Controls[[#This Row],[Override]],E8Controls[[#This Row],[Auto Status]]) -> Not assessed | S29: =IF(OR(E8Controls[[#This Row],[Final Status]]="Effective",E8Controls[[#This Row],[Final Status]]="Alternate control"),1,IF(OR(E8Controls[[#This Row],[Final Status]]="Ineffective",E8Controls[[#This Row],[Final Status]]="Not implemented"),-1,0)) -> 0 | T29: =OR(AND(E8Controls[[#This Row],[Maturity Level 1]],$M$9="ML1"),AND(E8Controls[[#This Row],[Maturity Level 2]],$M$9="ML2"),AND(E8Controls[[#This Row],[Maturity Level 3]],$M$9="ML3")) -> FALSE | U29: =OR(AND(E8Controls[[#This Row],[Maturity Level 1]],$M$10="ML1"),AND(E8Controls[[#This Row],[Maturity Level 2]],$M$10="ML2"),AND(E8Controls[[#This Row],[Maturity Level 3]],$M$10="ML3")) -> FALSE | V29: =OR(AND(E8Controls[[#This Row],[Maturity Level 1]],$M$11="ML1"),AND(E8Controls[[#This Row],[Maturity Level 2]],$M$11="ML2"),AND(E8Controls[[#This Row],[Maturity Level 3]],$M$11="ML3")) -> FALSE | W29: =OR(AND(E8Controls[[#This Row],[Maturity Level 1]],$M$12="ML1"),AND(E8Controls[[#This Row],[Maturity Level 2]],$M$12="ML2"),AND(E8Controls[[#This Row],[Maturity Level 3]],$M$12="ML3")) -> FALSE | X29: =OR(AND(E8Controls[[#This Row],[Maturity Level 1]],$M$13="ML1"),AND(E8Controls[[#This Row],[Maturity Level 2]],$M$13="ML2"),AND(E8Controls[[#This Row],[Maturity Level 3]],$M$13="ML3")) -> FALSE | Y29: =OR(AND(E8Controls[[#This Row],[Maturity Level 1]],$M$14="ML1"),AND(E8Controls[[#This Row],[Maturity Level 2]],$M$14="ML2"),AND(E8Controls[[#This Row],[Maturity Level 3]],$M$14="ML3")) -> FALSE | Z29: =OR(AND(E8Controls[[#This Row],[Maturity Level 1]],$M$15="ML1"),AND(E8Controls[[#This Row],[Maturity Level 2]],$M$15="ML2"),AND(E8Controls[[#This Row],[Maturity Level 3]],$M$15="ML3")) -> FALSE | AA29: =OR(AND(E8Controls[[#This Row],[Maturity Level 1]],$M$16="ML1"),AND(E8Controls[[#This Row],[Maturity Level 2]],$M$16="ML2"),AND(E8Controls[[#This Row],[Maturity Level 3]],$M$16="ML3")) -> FALSE
A30: TRUE | B30: TRUE | C30: TRUE | D30: FALSE | E30: FALSE | F30: TRUE | G30: FALSE | H30: FALSE | I30: FALSE | J30: FALSE | K30: FALSE | L30: ISM-1401 | M30: Multi-factor authentication uses either: something users have and something users know, or something users have that is unlocked by something users know or are. | N30: ML1, ML2, ML3 | O30: Multi-factor Authentication | P30: =IF(OR(E8Controls[[#This Row],[Impl (Patch applications)]],E8Controls[[#This Row],[Impl (Patch operating systems)]],E8Controls[[#This Row],[Impl (Multi-factor authentication)]],E8Controls[[#This Row],[Impl (Restrict administrative privileges)]],E8Controls[[#This Row],[Impl (Application control)]],E8Controls[[#This Row],[Impl (Restrict Microsoft Office macros)]],E8Controls[[#This Row],[Impl (User application hardening)]],E8Controls[[#This Row],[Impl (Regular backups)]]),"Effective","Not assessed") -> Not assessed | R30: =IF(E8Controls[[#This Row],[Override]]<>"",E8Controls[[#This Row],[Override]],E8Controls[[#This Row],[Auto Status]]) -> Not assessed | S30: =IF(OR(E8Controls[[#This Row],[Final Status]]="Effective",E8Controls[[#This Row],[Final Status]]="Alternate control"),1,IF(OR(E8Controls[[#This Row],[Final Status]]="Ineffective",E8Controls[[#This Row],[Final Status]]="Not implemented"),-1,0)) -> 0 | T30: =OR(AND(E8Controls[[#This Row],[Maturity Level 1]],$M$9="ML1"),AND(E8Controls[[#This Row],[Maturity Level 2]],$M$9="ML2"),AND(E8Controls[[#This Row],[Maturity Level 3]],$M$9="ML3")) -> FALSE | U30: =OR(AND(E8Controls[[#This Row],[Maturity Level 1]],$M$10="ML1"),AND(E8Controls[[#This Row],[Maturity Level 2]],$M$10="ML2"),AND(E8Controls[[#This Row],[Maturity Level 3]],$M$10="ML3")) -> FALSE | V30: =OR(AND(E8Controls[[#This Row],[Maturity Level 1]],$M$11="ML1"),AND(E8Controls[[#This Row],[Maturity Level 2]],$M$11="ML2"),AND(E8Controls[[#This Row],[Maturity Level 3]],$M$11="ML3")) -> FALSE | W30: =OR(AND(E8Controls[[#This Row],[Maturity Level 1]],$M$12="ML1"),AND(E8Controls[[#This Row],[Maturity Level 2]],$M$12="ML2"),AND(E8Controls[[#This Row],[Maturity Level 3]],$M$12="ML3")) -> FALSE | X30: =OR(AND(E8Controls[[#This Row],[Maturity Level 1]],$M$13="ML1"),AND(E8Controls[[#This Row],[Maturity Level 2]],$M$13="ML2"),AND(E8Controls[[#This Row],[Maturity Level 3]],$M$13="ML3")) -> FALSE | Y30: =OR(AND(E8Controls[[#This Row],[Maturity Level 1]],$M$14="ML1"),AND(E8Controls[[#This Row],[Maturity Level 2]],$M$14="ML2"),AND(E8Controls[[#This Row],[Maturity Level 3]],$M$14="ML3")) -> FALSE | Z30: =OR(AND(E8Controls[[#This Row],[Maturity Level 1]],$M$15="ML1"),AND(E8Controls[[#This Row],[Maturity Level 2]],$M$15="ML2"),AND(E8Controls[[#This Row],[Maturity Level 3]],$M$15="ML3")) -> FALSE | AA30: =OR(AND(E8Controls[[#This Row],[Maturity Level 1]],$M$16="ML1"),AND(E8Controls[[#This Row],[Maturity Level 2]],$M$16="ML2"),AND(E8Controls[[#This Row],[Maturity Level 3]],$M$16="ML3")) -> FALSE
A31: FALSE | B31: TRUE | C31: TRUE | D31: FALSE | E31: FALSE | F31: FALSE | G31: FALSE | H31: FALSE | I31: FALSE | J31: TRUE | K31: FALSE | L31: ISM-1412 | M31: Web browsers are hardened using ASD and vendor hardening guidance, with the most restrictive guidance taking precedence when conflicts occur. | N31: ML2, ML3 | O31: User Application Hardening | P31: =IF(OR(E8Controls[[#This Row],[Impl (Patch applications)]],E8Controls[[#This Row],[Impl (Patch operating systems)]],E8Controls[[#This Row],[Impl (Multi-factor authentication)]],E8Controls[[#This Row],[Impl (Restrict administrative privileges)]],E8Controls[[#This Row],[Impl (Application control)]],E8Controls[[#This Row],[Impl (Restrict Microsoft Office macros)]],E8Controls[[#This Row],[Impl (User application hardening)]],E8Controls[[#This Row],[Impl (Regular backups)]]),"Effective","Not assessed") -> Not assessed | R31: =IF(E8Controls[[#This Row],[Override]]<>"",E8Controls[[#This Row],[Override]],E8Controls[[#This Row],[Auto Status]]) -> Not assessed | S31: =IF(OR(E8Controls[[#This Row],[Final Status]]="Effective",E8Controls[[#This Row],[Final Status]]="Alternate control"),1,IF(OR(E8Controls[[#This Row],[Final Status]]="Ineffective",E8Controls[[#This Row],[Final Status]]="Not implemented"),-1,0)) -> 0 | T31: =OR(AND(E8Controls[[#This Row],[Maturity Level 1]],$M$9="ML1"),AND(E8Controls[[#This Row],[Maturity Level 2]],$M$9="ML2"),AND(E8Controls[[#This Row],[Maturity Level 3]],$M$9="ML3")) -> FALSE | U31: =OR(AND(E8Controls[[#This Row],[Maturity Level 1]],$M$10="ML1"),AND(E8Controls[[#This Row],[Maturity Level 2]],$M$10="ML2"),AND(E8Controls[[#This Row],[Maturity Level 3]],$M$10="ML3")) -> FALSE | V31: =OR(AND(E8Controls[[#This Row],[Maturity Level 1]],$M$11="ML1"),AND(E8Controls[[#This Row],[Maturity Level 2]],$M$11="ML2"),AND(E8Controls[[#This Row],[Maturity Level 3]],$M$11="ML3")) -> FALSE | W31: =OR(AND(E8Controls[[#This Row],[Maturity Level 1]],$M$12="ML1"),AND(E8Controls[[#This Row],[Maturity Level 2]],$M$12="ML2"),AND(E8Controls[[#This Row],[Maturity Level 3]],$M$12="ML3")) -> FALSE | X31: =OR(AND(E8Controls[[#This Row],[Maturity Level 1]],$M$13="ML1"),AND(E8Controls[[#This Row],[Maturity Level 2]],$M$13="ML2"),AND(E8Controls[[#This Row],[Maturity Level 3]],$M$13="ML3")) -> FALSE | Y31: =OR(AND(E8Controls[[#This Row],[Maturity Level 1]],$M$14="ML1"),AND(E8Controls[[#This Row],[Maturity Level 2]],$M$14="ML2"),AND(E8Controls[[#This Row],[Maturity Level 3]],$M$14="ML3")) -> FALSE | Z31: =OR(AND(E8Controls[[#This Row],[Maturity Level 1]],$M$15="ML1"),AND(E8Controls[[#This Row],[Maturity Level 2]],$M$15="ML2"),AND(E8Controls[[#This Row],[Maturity Level 3]],$M$15="ML3")) -> FALSE | AA31: =OR(AND(E8Controls[[#This Row],[Maturity Level 1]],$M$16="ML1"),AND(E8Controls[[#This Row],[Maturity Level 2]],$M$16="ML2"),AND(E8Controls[[#This Row],[Maturity Level 3]],$M$16="ML3")) -> FALSE
